BEGIN:VCALENDAR
VERSION:2.0
PRODID:-//Kipepeo School - ECPv6.13.2.1//NONSGML v1.0//EN
CALSCALE:GREGORIAN
METHOD:PUBLISH
X-ORIGINAL-URL:https://kipepeoschool.org
X-WR-CALDESC:Events for Kipepeo School
REFRESH-INTERVAL;VALUE=DURATION:PT1H
X-Robots-Tag:noindex
X-PUBLISHED-TTL:PT1H
BEGIN:VTIMEZONE
TZID:Europe/Moscow
BEGIN:STANDARD
TZOFFSETFROM:+0300
TZOFFSETTO:+0300
TZNAME:MSK
DTSTART:20240101T000000
END:STANDARD
END:VTIMEZONE
BEGIN:VEVENT
DTSTART;TZID=Europe/Moscow:20240706T080000
DTEND;TZID=Europe/Moscow:20240706T170000
DTSTAMP:20260426T005419
CREATED:20240521T120618Z
LAST-MODIFIED:20240521T120618Z
UID:3283-1720252800-1720285200@kipepeoschool.org
SUMMARY:Interschool Karate championship: Rift valley region
DESCRIPTION:Welcome to Kipepeo School on Saturday the 6th of July for the Interschool Karate Championship!
URL:https://kipepeoschool.org/event/interschool-karate-championship-rift-valley-region/
CATEGORIES:Sports
END:VEVENT
END:VCALENDAR