BEGIN:VCALENDAR
VERSION:2.0
PRODID:-//Kipepeo School - ECPv6.13.2.1//NONSGML v1.0//EN
CALSCALE:GREGORIAN
METHOD:PUBLISH
X-WR-CALNAME:Kipepeo School
X-ORIGINAL-URL:https://kipepeoschool.org
X-WR-CALDESC:Events for Kipepeo School
REFRESH-INTERVAL;VALUE=DURATION:PT1H
X-Robots-Tag:noindex
X-PUBLISHED-TTL:PT1H
BEGIN:VTIMEZONE
TZID:Europe/Moscow
BEGIN:STANDARD
TZOFFSETFROM:+0300
TZOFFSETTO:+0300
TZNAME:MSK
DTSTART:20260101T000000
END:STANDARD
END:VTIMEZONE
BEGIN:VEVENT
DTSTART;TZID=Europe/Moscow:20260316T080000
DTEND;TZID=Europe/Moscow:20260320T150000
DTSTAMP:20260424T022151
CREATED:20260220T172834Z
LAST-MODIFIED:20260220T172834Z
UID:3394-1773648000-1774018800@kipepeoschool.org
SUMMARY:End of Term Assessments: Prep & Senior School
DESCRIPTION:We wish to inform all parents and students that the End of Term Assessments for our Prep and Senior School will take place from Monday\, 16th March\, to Friday\, 20th March 2026. These assessments are an important opportunity for learners to demonstrate their understanding of the term’s curriculum and reflect on their academic progress. We encourage all students to prepare thoroughly\, manage their time wisely\, and approach each paper with confidence and a positive mindset. Please ensure attendance is punctual each day throughout the assessment week. We wish everyone the very best.
URL:https://kipepeoschool.org/event/end-of-term-assessments-prep-senior-school/
LOCATION:Kipepeo school\, Maragoli Avenue\, Milimani.\, Nakuru\, Nakuru\, 20100\, Kenya
CATEGORIES:Academic
ATTACH;FMTTYPE=image/png:https://kipepeoschool.org/wp-content/uploads/2023/08/kipepeo-school-logo-03.png
ORGANIZER;CN="Kipepeo School":MAILTO:info@kipepeoschool.org
END:VEVENT
BEGIN:VEVENT
DTSTART;TZID=Europe/Moscow:20260316T080000
DTEND;TZID=Europe/Moscow:20260320T170000
DTSTAMP:20260424T022151
CREATED:20260220T173419Z
LAST-MODIFIED:20260220T173419Z
UID:3396-1773648000-1774026000@kipepeoschool.org
SUMMARY:Termly Excursions: Early Years & Year 1
DESCRIPTION:We are delighted to announce that our Early Years and Year 1 learners will be going on their Termly Excursions during the week of Monday\, 16th March\, to Friday\, 20th March 2026. These exciting outings are designed to enrich our students’ learning experiences by connecting classroom themes to the real world in a fun and engaging way. Each class will have the opportunity to explore\, discover\, and create lasting memories together outside the school environment.
URL:https://kipepeoschool.org/event/termly-excursions-early-years-year-1/
CATEGORIES:Academic,Outdoor
ATTACH;FMTTYPE=image/png:https://kipepeoschool.org/wp-content/uploads/2023/08/kipepeo-school-logo-03.png
ORGANIZER;CN="Kipepeo School":MAILTO:info@kipepeoschool.org
END:VEVENT
END:VCALENDAR