BEGIN:VCALENDAR
VERSION:2.0
PRODID:-//Kipepeo School - ECPv6.13.2.1//NONSGML v1.0//EN
CALSCALE:GREGORIAN
METHOD:PUBLISH
X-WR-CALNAME:Kipepeo School
X-ORIGINAL-URL:https://kipepeoschool.org
X-WR-CALDESC:Events for Kipepeo School
REFRESH-INTERVAL;VALUE=DURATION:PT1H
X-Robots-Tag:noindex
X-PUBLISHED-TTL:PT1H
BEGIN:VTIMEZONE
TZID:Europe/Moscow
BEGIN:STANDARD
TZOFFSETFROM:+0300
TZOFFSETTO:+0300
TZNAME:MSK
DTSTART:20260101T000000
END:STANDARD
END:VTIMEZONE
BEGIN:VEVENT
DTSTART;TZID=Europe/Moscow:20260307T080000
DTEND;TZID=Europe/Moscow:20260307T170000
DTSTAMP:20260424T070852
CREATED:20260220T170158Z
LAST-MODIFIED:20260220T170158Z
UID:3384-1772870400-1772902800@kipepeoschool.org
SUMMARY:Nakuru Qualifiers Karate Open Championship
DESCRIPTION:The Kipepeo School karate team will be taking part in the upcoming Nakuru Qualifiers Karate Open Championship on Saturday\, 7th March 2026. This crucial tournament serves as a qualifying event for our talented martial artists to showcase their skill\, discipline\, and fighting spirit against competitors from across the region. Our boys’ and girls’ teams have been training diligently and are eager to demonstrate the values of respect and perseverance that karate instills. We wish our entire team the very best as they seek to secure their place in future championships and make Kipepeo proud.
URL:https://kipepeoschool.org/event/nakuru-qualifiers-karate-open-championship/
CATEGORIES:CAS,Sports
ATTACH;FMTTYPE=image/png:https://kipepeoschool.org/wp-content/uploads/2023/08/kipepeo-school-logo-03.png
END:VEVENT
BEGIN:VEVENT
DTSTART;TZID=Europe/Moscow:20260313T080000
DTEND;TZID=Europe/Moscow:20260313T170000
DTSTAMP:20260424T070852
CREATED:20260220T171907Z
LAST-MODIFIED:20260220T171907Z
UID:3390-1773388800-1773421200@kipepeoschool.org
SUMMARY:Kipepeo School Swimming Gala
DESCRIPTION:We are thrilled to announce the upcoming Kipepeo School Swimming Gala\, set to take place on Friday\, 13th March 2026. This exciting event will bring together our talented swimmers from across the year groups to compete in a variety of races\, showcasing their speed\, endurance\, and aquatic skills. The gala promises to be a splashing success filled with team spirit\, healthy competition\, and plenty of fun in the sun. We encourage all parents and supporters to come along and cheer on our young athletes as they make a splash and demonstrate their dedication to the sport.
URL:https://kipepeoschool.org/event/kipepeo-school-swimming-gala/
CATEGORIES:CAS,Sports
ATTACH;FMTTYPE=image/png:https://kipepeoschool.org/wp-content/uploads/2023/08/kipepeo-school-logo-03.png
ORGANIZER;CN="Kipepeo School":MAILTO:info@kipepeoschool.org
END:VEVENT
END:VCALENDAR